BEGIN:VCALENDAR
VERSION:2.0
PRODID:-//Meliora Farm - ECPv6.15.17.1//NONSGML v1.0//EN
CALSCALE:GREGORIAN
METHOD:PUBLISH
X-WR-CALNAME:Meliora Farm
X-ORIGINAL-URL:https://meliorafarm.com.au
X-WR-CALDESC:Events for Meliora Farm
REFRESH-INTERVAL;VALUE=DURATION:PT1H
X-Robots-Tag:noindex
X-PUBLISHED-TTL:PT1H
BEGIN:VTIMEZONE
TZID:Australia/Sydney
BEGIN:STANDARD
TZOFFSETFROM:+1100
TZOFFSETTO:+1000
TZNAME:AEST
DTSTART:20210403T160000
END:STANDARD
BEGIN:DAYLIGHT
TZOFFSETFROM:+1000
TZOFFSETTO:+1100
TZNAME:AEDT
DTSTART:20211002T160000
END:DAYLIGHT
BEGIN:STANDARD
TZOFFSETFROM:+1100
TZOFFSETTO:+1000
TZNAME:AEST
DTSTART:20220402T160000
END:STANDARD
BEGIN:DAYLIGHT
TZOFFSETFROM:+1000
TZOFFSETTO:+1100
TZNAME:AEDT
DTSTART:20221001T160000
END:DAYLIGHT
BEGIN:STANDARD
TZOFFSETFROM:+1100
TZOFFSETTO:+1000
TZNAME:AEST
DTSTART:20230401T160000
END:STANDARD
BEGIN:DAYLIGHT
TZOFFSETFROM:+1000
TZOFFSETTO:+1100
TZNAME:AEDT
DTSTART:20230930T160000
END:DAYLIGHT
BEGIN:STANDARD
TZOFFSETFROM:+1100
TZOFFSETTO:+1000
TZNAME:AEST
DTSTART:20240406T160000
END:STANDARD
BEGIN:DAYLIGHT
TZOFFSETFROM:+1000
TZOFFSETTO:+1100
TZNAME:AEDT
DTSTART:20241005T160000
END:DAYLIGHT
END:VTIMEZONE
BEGIN:VEVENT
DTSTART;TZID=Australia/Sydney:20230709T100000
DTEND;TZID=Australia/Sydney:20230709T150000
DTSTAMP:20260422T200558
CREATED:20230615T044524Z
LAST-MODIFIED:20230615T044613Z
UID:4014-1688896800-1688914800@meliorafarm.com.au
SUMMARY:Pick Your Own - July 9th
DESCRIPTION:Cost is $30 for a Meliora farm bag that you can fill up with our delicious citrus (approximately 12kg of fruit) including navel oranges\, lemons and limes. Upon arrival you can collect as many bags as you would like\, go out into the orchard to pick your fruit and once you have finished picking\, head over to the fruit stall where you can buy other seasonal produce and pay for your full bags. Cash sales are encouraged (unfortunately we have unreliable mobile and internet services\, intermittent EFTPOS is available). Fruit sales are our income\, and it takes all year to prepare just the one crop. Please respect it by only picking what you are prepared to buy. Please wear comfortable enclosed footwear\, suitable for walking on uneven ground. No bags to be taken into the orchards\, other than Meliora Farm bags that have been purchased.\n\n\n\n\n\n\n\n\n\n\n\n\n\n\n\n 
URL:https://meliorafarm.com.au/event/pick-your-own-july-9th/
LOCATION:Meliora Farm\, Meliora Farm\, 1504 Peats Ridge Rd\, Peats Ridge\, NSW\, 2250\, Australia
ORGANIZER;CN="Tim & Elise Kemp":MAILTO:info@meliorafarm.com.au
GEO:-33.349434514321;151.22989927536
X-APPLE-STRUCTURED-LOCATION;VALUE=URI;X-ADDRESS=Meliora Farm Meliora Farm 1504 Peats Ridge Rd Peats Ridge NSW 2250 Australia;X-APPLE-RADIUS=500;X-TITLE=Meliora Farm\, 1504 Peats Ridge Rd:geo:151.22989927536,-33.349434514321
END:VEVENT
BEGIN:VEVENT
DTSTART;TZID=Australia/Sydney:20230708T100000
DTEND;TZID=Australia/Sydney:20230708T150000
DTSTAMP:20260422T200558
CREATED:20230615T043857Z
LAST-MODIFIED:20230615T043857Z
UID:4011-1688810400-1688828400@meliorafarm.com.au
SUMMARY:Pick Your Own - July 8th
DESCRIPTION:Cost is $30 for a Meliora farm bag that you can fill up with our delicious citrus (approximately 12kg of fruit) including navel oranges\, lemons and limes. Upon arrival you can collect as many bags as you would like\, go out into the orchard to pick your fruit and once you have finished picking\, head over to the fruit stall where you can buy other seasonal produce and pay for your full bags. Cash sales are encouraged (unfortunately we have unreliable mobile and internet services\, intermittent EFTPOS is available). Fruit sales are our income\, and it takes all year to prepare just the one crop. Please respect it by only picking what you are prepared to buy. Please wear comfortable enclosed footwear\, suitable for walking on uneven ground. No bags to be taken into the orchards\, other than Meliora Farm bags that have been purchased.\n\n\n\n\n\n\n\n\n\n\n\n\n\n\n\n 
URL:https://meliorafarm.com.au/event/pick-your-own-july-8th/
LOCATION:Meliora Farm\, Meliora Farm\, 1504 Peats Ridge Rd\, Peats Ridge\, NSW\, 2250\, Australia
ORGANIZER;CN="Tim & Elise Kemp":MAILTO:info@meliorafarm.com.au
GEO:-33.349434514321;151.22989927536
X-APPLE-STRUCTURED-LOCATION;VALUE=URI;X-ADDRESS=Meliora Farm Meliora Farm 1504 Peats Ridge Rd Peats Ridge NSW 2250 Australia;X-APPLE-RADIUS=500;X-TITLE=Meliora Farm\, 1504 Peats Ridge Rd:geo:151.22989927536,-33.349434514321
END:VEVENT
BEGIN:VEVENT
DTSTART;TZID=Australia/Sydney:20230625T100000
DTEND;TZID=Australia/Sydney:20230625T150000
DTSTAMP:20260422T200558
CREATED:20230430T044141Z
LAST-MODIFIED:20230430T045305Z
UID:3345-1687687200-1687705200@meliorafarm.com.au
SUMMARY:Pick Your Own - June 25th
DESCRIPTION:Cost is $30 for a Meliora farm bag that you can fill up with our delicious citrus (approximately 12kg of fruit). Upon arrival you can collect as many bags as you would like\, go out into the orchard to pick your fruit and once you have finished picking\, head over to the fruit stall where you can buy other seasonal produce and pay for your full bags. Cash sales are encouraged (unfortunately we have unreliable mobile and internet services\, intermittent EFTPOS is available). Fruit sales are our income\, and it takes all year to prepare just the one crop. Please respect it by only picking what you are prepared to buy. Please wear comfortable enclosed footwear\, suitable for walking on uneven ground. No bags to be taken into the orchards\, other than Meliora Farm bags that have been purchased.\n\n\n\n\n\n\n\n\n\n\n\n\n\n\n\n 
URL:https://meliorafarm.com.au/event/pick-your-own-june-25th-2/
LOCATION:Meliora Farm\, Meliora Farm\, 1504 Peats Ridge Rd\, Peats Ridge\, NSW\, 2250\, Australia
ORGANIZER;CN="Tim & Elise Kemp":MAILTO:info@meliorafarm.com.au
GEO:-33.349434514321;151.22989927536
X-APPLE-STRUCTURED-LOCATION;VALUE=URI;X-ADDRESS=Meliora Farm Meliora Farm 1504 Peats Ridge Rd Peats Ridge NSW 2250 Australia;X-APPLE-RADIUS=500;X-TITLE=Meliora Farm\, 1504 Peats Ridge Rd:geo:151.22989927536,-33.349434514321
END:VEVENT
BEGIN:VEVENT
DTSTART;TZID=Australia/Sydney:20230624T100000
DTEND;TZID=Australia/Sydney:20230624T150000
DTSTAMP:20260422T200558
CREATED:20230430T044503Z
LAST-MODIFIED:20230430T045336Z
UID:3348-1687600800-1687618800@meliorafarm.com.au
SUMMARY:Pick Your Own - June 24th
DESCRIPTION:Cost is $30 for a Meliora farm bag that you can fill up with our delicious citrus (approximately 12kg of fruit). Upon arrival you can collect as many bags as you would like\, go out into the orchard to pick your fruit and once you have finished picking\, head over to the fruit stall where you can buy other seasonal produce and pay for your full bags. Cash sales are encouraged (unfortunately we have unreliable mobile and internet services\, intermittent EFTPOS is available). Fruit sales are our income\, and it takes all year to prepare just the one crop. Please respect it by only picking what you are prepared to buy. Please wear comfortable enclosed footwear\, suitable for walking on uneven ground. No bags to be taken into the orchards\, other than Meliora Farm bags that have been purchased.\n\n\n\n\n\n\n\n\n\n\n\n\n\n\n\n 
URL:https://meliorafarm.com.au/event/pick-your-own-june-24th/
LOCATION:Meliora Farm\, Meliora Farm\, 1504 Peats Ridge Rd\, Peats Ridge\, NSW\, 2250\, Australia
ORGANIZER;CN="Tim & Elise Kemp":MAILTO:info@meliorafarm.com.au
GEO:-33.349434514321;151.22989927536
X-APPLE-STRUCTURED-LOCATION;VALUE=URI;X-ADDRESS=Meliora Farm Meliora Farm 1504 Peats Ridge Rd Peats Ridge NSW 2250 Australia;X-APPLE-RADIUS=500;X-TITLE=Meliora Farm\, 1504 Peats Ridge Rd:geo:151.22989927536,-33.349434514321
END:VEVENT
BEGIN:VEVENT
DTSTART;TZID=Australia/Sydney:20230611T100000
DTEND;TZID=Australia/Sydney:20230611T150000
DTSTAMP:20260422T200558
CREATED:20230430T051819Z
LAST-MODIFIED:20230430T051819Z
UID:3371-1686477600-1686495600@meliorafarm.com.au
SUMMARY:Pick Your Own - June 11th
DESCRIPTION:Cost is $30 for a Meliora farm bag that you can fill up with our delicious citrus (approximately 12kg of fruit). Upon arrival you can collect as many bags as you would like\, go out into the orchard to pick your fruit and once you have finished picking\, head over to the fruit stall where you can buy other seasonal produce and pay for your full bags. Cash sales are encouraged (unfortunately we have unreliable mobile and internet services\, intermittent EFTPOS is available). Fruit sales are our income\, and it takes all year to prepare just the one crop. Please respect it by only picking what you are prepared to buy. Please wear comfortable enclosed footwear\, suitable for walking on uneven ground. No bags to be taken into the orchards\, other than Meliora Farm bags that have been purchased.\n\n\n\n\n\n\n\n\n\n\n\n\n\n\n\n 
URL:https://meliorafarm.com.au/event/pick-your-own-june-11th/
LOCATION:Meliora Farm\, Meliora Farm\, 1504 Peats Ridge Rd\, Peats Ridge\, NSW\, 2250\, Australia
ORGANIZER;CN="Tim & Elise Kemp":MAILTO:info@meliorafarm.com.au
GEO:-33.349434514321;151.22989927536
X-APPLE-STRUCTURED-LOCATION;VALUE=URI;X-ADDRESS=Meliora Farm Meliora Farm 1504 Peats Ridge Rd Peats Ridge NSW 2250 Australia;X-APPLE-RADIUS=500;X-TITLE=Meliora Farm\, 1504 Peats Ridge Rd:geo:151.22989927536,-33.349434514321
END:VEVENT
BEGIN:VEVENT
DTSTART;TZID=Australia/Sydney:20230610T100000
DTEND;TZID=Australia/Sydney:20230610T150000
DTSTAMP:20260422T200558
CREATED:20230430T051606Z
LAST-MODIFIED:20230430T051606Z
UID:3368-1686391200-1686409200@meliorafarm.com.au
SUMMARY:Pick Your Own - June 10th
DESCRIPTION:Cost is $30 for a Meliora farm bag that you can fill up with our delicious citrus (approximately 12kg of fruit). Upon arrival you can collect as many bags as you would like\, go out into the orchard to pick your fruit and once you have finished picking\, head over to the fruit stall where you can buy other seasonal produce and pay for your full bags. Cash sales are encouraged (unfortunately we have unreliable mobile and internet services\, intermittent EFTPOS is available). Fruit sales are our income\, and it takes all year to prepare just the one crop. Please respect it by only picking what you are prepared to buy. Please wear comfortable enclosed footwear\, suitable for walking on uneven ground. No bags to be taken into the orchards\, other than Meliora Farm bags that have been purchased.\n\n\n\n\n\n\n\n\n\n\n\n\n\n\n\n 
URL:https://meliorafarm.com.au/event/pick-your-own-june-10th/
LOCATION:Meliora Farm\, Meliora Farm\, 1504 Peats Ridge Rd\, Peats Ridge\, NSW\, 2250\, Australia
ORGANIZER;CN="Tim & Elise Kemp":MAILTO:info@meliorafarm.com.au
GEO:-33.349434514321;151.22989927536
X-APPLE-STRUCTURED-LOCATION;VALUE=URI;X-ADDRESS=Meliora Farm Meliora Farm 1504 Peats Ridge Rd Peats Ridge NSW 2250 Australia;X-APPLE-RADIUS=500;X-TITLE=Meliora Farm\, 1504 Peats Ridge Rd:geo:151.22989927536,-33.349434514321
END:VEVENT
BEGIN:VEVENT
DTSTART;TZID=Australia/Sydney:20230528T100000
DTEND;TZID=Australia/Sydney:20230528T150000
DTSTAMP:20260422T200558
CREATED:20230430T051200Z
LAST-MODIFIED:20230430T051200Z
UID:3365-1685268000-1685286000@meliorafarm.com.au
SUMMARY:Pick Your Own - May 28th
DESCRIPTION:Cost is $30 for a Meliora farm bag that you can fill up with our delicious citrus (approximately 12kg of fruit). Upon arrival you can collect as many bags as you would like\, go out into the orchard to pick your fruit and once you have finished picking\, head over to the fruit stall where you can buy other seasonal produce and pay for your full bags. Cash sales are encouraged (unfortunately we have unreliable mobile and internet services\, intermittent EFTPOS is available). Fruit sales are our income\, and it takes all year to prepare just the one crop. Please respect it by only picking what you are prepared to buy. Please wear comfortable enclosed footwear\, suitable for walking on uneven ground. No bags to be taken into the orchards\, other than Meliora Farm bags that have been purchased.\n\n\n\n\n\n\n\n\n\n\n\n\n\n\n\n 
URL:https://meliorafarm.com.au/event/pick-your-own-may-28th-2/
LOCATION:Meliora Farm\, Meliora Farm\, 1504 Peats Ridge Rd\, Peats Ridge\, NSW\, 2250\, Australia
ORGANIZER;CN="Tim & Elise Kemp":MAILTO:info@meliorafarm.com.au
GEO:-33.349434514321;151.22989927536
X-APPLE-STRUCTURED-LOCATION;VALUE=URI;X-ADDRESS=Meliora Farm Meliora Farm 1504 Peats Ridge Rd Peats Ridge NSW 2250 Australia;X-APPLE-RADIUS=500;X-TITLE=Meliora Farm\, 1504 Peats Ridge Rd:geo:151.22989927536,-33.349434514321
END:VEVENT
BEGIN:VEVENT
DTSTART;TZID=Australia/Sydney:20230527T100000
DTEND;TZID=Australia/Sydney:20230527T150000
DTSTAMP:20260422T200558
CREATED:20230430T050809Z
LAST-MODIFIED:20230430T050809Z
UID:3359-1685181600-1685199600@meliorafarm.com.au
SUMMARY:Pick Your Own - May 27th
DESCRIPTION:Cost is $30 for a Meliora farm bag that you can fill up with our delicious citrus (approximately 12kg of fruit). Upon arrival you can collect as many bags as you would like\, go out into the orchard to pick your fruit and once you have finished picking\, head over to the fruit stall where you can buy other seasonal produce and pay for your full bags. Cash sales are encouraged (unfortunately we have unreliable mobile and internet services\, intermittent EFTPOS is available). Fruit sales are our income\, and it takes all year to prepare just the one crop. Please respect it by only picking what you are prepared to buy. Please wear comfortable enclosed footwear\, suitable for walking on uneven ground. No bags to be taken into the orchards\, other than Meliora Farm bags that have been purchased.\n\n\n\n\n\n\n\n\n\n\n\n\n\n\n\n 
URL:https://meliorafarm.com.au/event/pick-your-own-may-27th/
LOCATION:Meliora Farm\, Meliora Farm\, 1504 Peats Ridge Rd\, Peats Ridge\, NSW\, 2250\, Australia
ORGANIZER;CN="Tim & Elise Kemp":MAILTO:info@meliorafarm.com.au
GEO:-33.349434514321;151.22989927536
X-APPLE-STRUCTURED-LOCATION;VALUE=URI;X-ADDRESS=Meliora Farm Meliora Farm 1504 Peats Ridge Rd Peats Ridge NSW 2250 Australia;X-APPLE-RADIUS=500;X-TITLE=Meliora Farm\, 1504 Peats Ridge Rd:geo:151.22989927536,-33.349434514321
END:VEVENT
BEGIN:VEVENT
DTSTART;TZID=Australia/Sydney:20230226T100000
DTEND;TZID=Australia/Sydney:20230226T150000
DTSTAMP:20260422T200558
CREATED:20221230T032205Z
LAST-MODIFIED:20221230T032205Z
UID:3192-1677405600-1677423600@meliorafarm.com.au
SUMMARY:Pick Your Own - February 26th
DESCRIPTION:Cost is $30 for a Meliora farm bag that you can fill up with our delicious oranges (approximately 12kg of fruit). Upon arrival you can collect as many bags as you would like\, go out into the orchard to pick your fruit and once you have finished picking\, head over to the fruit stall where you can buy other seasonal produce and pay for your full bags. Cash sales are encouraged (unfortunately we have unreliable mobile and internet services\, intermittent EFTPOS is available). Fruit sales are our income\, and it takes all year to prepare just the one crop. Please respect it by only picking only what you are prepared to buy. Please wear comfortable enclosed footwear\, suitable for walking on uneven ground. No bags to be taken into the orchards\, other than Meliora Farm bags that have been purchased. Your very welcome to bring your own picnic.\n\n\n\n\n\n\n\n\n\n\n\n\n\n\n\nDuring February we will only have Valencia oranges available for pick your own.
URL:https://meliorafarm.com.au/event/pick-your-own-february-26th/
LOCATION:Meliora Farm\, Meliora Farm\, 1504 Peats Ridge Rd\, Peats Ridge\, NSW\, 2250\, Australia
ORGANIZER;CN="Tim & Elise Kemp":MAILTO:info@meliorafarm.com.au
GEO:-33.349434514321;151.22989927536
X-APPLE-STRUCTURED-LOCATION;VALUE=URI;X-ADDRESS=Meliora Farm Meliora Farm 1504 Peats Ridge Rd Peats Ridge NSW 2250 Australia;X-APPLE-RADIUS=500;X-TITLE=Meliora Farm\, 1504 Peats Ridge Rd:geo:151.22989927536,-33.349434514321
END:VEVENT
BEGIN:VEVENT
DTSTART;TZID=Australia/Sydney:20230225T100000
DTEND;TZID=Australia/Sydney:20230225T150000
DTSTAMP:20260422T200558
CREATED:20221230T031708Z
LAST-MODIFIED:20221230T031708Z
UID:3187-1677319200-1677337200@meliorafarm.com.au
SUMMARY:Pick Your Own - February 25th
DESCRIPTION:Cost is $30 for a Meliora farm bag that you can fill up with our delicious oranges (approximately 12kg of fruit). Upon arrival you can collect as many bags as you would like\, go out into the orchard to pick your fruit and once you have finished picking\, head over to the fruit stall where you can buy other seasonal produce and pay for your full bags. Cash sales are encouraged (unfortunately we have unreliable mobile and internet services\, intermittent EFTPOS is available). Fruit sales are our income\, and it takes all year to prepare just the one crop. Please respect it by only picking only what you are prepared to buy. Please wear comfortable enclosed footwear\, suitable for walking on uneven ground. No bags to be taken into the orchards\, other than Meliora Farm bags that have been purchased.\n\n\n\n\n\n\n\n\n\n\n\n\n\n\n\nDuring February we will only have Valencia oranges available for pick your own.
URL:https://meliorafarm.com.au/event/pick-your-own-february-25th/
LOCATION:Meliora Farm\, Meliora Farm\, 1504 Peats Ridge Rd\, Peats Ridge\, NSW\, 2250\, Australia
ORGANIZER;CN="Tim & Elise Kemp":MAILTO:info@meliorafarm.com.au
GEO:-33.349434514321;151.22989927536
X-APPLE-STRUCTURED-LOCATION;VALUE=URI;X-ADDRESS=Meliora Farm Meliora Farm 1504 Peats Ridge Rd Peats Ridge NSW 2250 Australia;X-APPLE-RADIUS=500;X-TITLE=Meliora Farm\, 1504 Peats Ridge Rd:geo:151.22989927536,-33.349434514321
END:VEVENT
BEGIN:VEVENT
DTSTART;TZID=Australia/Sydney:20230129T100000
DTEND;TZID=Australia/Sydney:20230129T150000
DTSTAMP:20260422T200558
CREATED:20221230T031357Z
LAST-MODIFIED:20221230T032026Z
UID:3184-1674986400-1675004400@meliorafarm.com.au
SUMMARY:Pick Your Own - January 29th
DESCRIPTION:Cost is $30 for a Meliora farm bag that you can fill up with our delicious oranges (approximately 12kg of fruit). Upon arrival you can collect as many bags as you would like\, go out into the orchard to pick your fruit and once you have finished picking\, head over to the fruit stall where you can buy other seasonal produce and pay for your full bags. Cash sales are encouraged (unfortunately we have unreliable mobile and internet services\, intermittent EFTPOS is available). Fruit sales are our income\, and it takes all year to prepare just the one crop. Please respect it by only picking only what you are prepared to buy. Please wear comfortable enclosed footwear\, suitable for walking on uneven ground. No bags to be taken into the orchards\, other than Meliora Farm bags that have been purchased. Your very welcome to bring your own picnic.\nIn January we will only have Valencia oranges available for pick your own.\n\n\n\n\n\n\n\n\n\n\n\n\n\n\n\n 
URL:https://meliorafarm.com.au/event/pick-your-own-january-29th/
LOCATION:Meliora Farm\, Meliora Farm\, 1504 Peats Ridge Rd\, Peats Ridge\, NSW\, 2250\, Australia
ORGANIZER;CN="Tim & Elise Kemp":MAILTO:info@meliorafarm.com.au
GEO:-33.349434514321;151.22989927536
X-APPLE-STRUCTURED-LOCATION;VALUE=URI;X-ADDRESS=Meliora Farm Meliora Farm 1504 Peats Ridge Rd Peats Ridge NSW 2250 Australia;X-APPLE-RADIUS=500;X-TITLE=Meliora Farm\, 1504 Peats Ridge Rd:geo:151.22989927536,-33.349434514321
END:VEVENT
BEGIN:VEVENT
DTSTART;TZID=Australia/Sydney:20230128T100000
DTEND;TZID=Australia/Sydney:20230128T150000
DTSTAMP:20260422T200558
CREATED:20221230T031120Z
LAST-MODIFIED:20221230T031907Z
UID:3181-1674900000-1674918000@meliorafarm.com.au
SUMMARY:Pick Your Own - January 28th
DESCRIPTION:Cost is $30 for a Meliora farm bag that you can fill up with our delicious oranges (approximately 12kg of fruit). Upon arrival you can collect as many bags as you would like\, go out into the orchard to pick your fruit and once you have finished picking\, head over to the fruit stall where you can buy other seasonal produce and pay for your full bags. Cash sales are encouraged (unfortunately we have unreliable mobile and internet services\, intermittent EFTPOS is available). Fruit sales are our income\, and it takes all year to prepare just the one crop. Please respect it by only picking only what you are prepared to buy. Please wear comfortable enclosed footwear\, suitable for walking on uneven ground. No bags to be taken into the orchards\, other than Meliora Farm bags that have been purchased. Your very welcome to bring your own picnic.\n\n\n\n\n\n\n\n\n\n\n\n\n\n\n\nDuring January we will only have Valencia oranges available for pick your own.
URL:https://meliorafarm.com.au/event/pick-your-own-january-28th/
LOCATION:Meliora Farm\, Meliora Farm\, 1504 Peats Ridge Rd\, Peats Ridge\, NSW\, 2250\, Australia
ORGANIZER;CN="Tim & Elise Kemp":MAILTO:info@meliorafarm.com.au
GEO:-33.349434514321;151.22989927536
X-APPLE-STRUCTURED-LOCATION;VALUE=URI;X-ADDRESS=Meliora Farm Meliora Farm 1504 Peats Ridge Rd Peats Ridge NSW 2250 Australia;X-APPLE-RADIUS=500;X-TITLE=Meliora Farm\, 1504 Peats Ridge Rd:geo:151.22989927536,-33.349434514321
END:VEVENT
BEGIN:VEVENT
DTSTART;TZID=Australia/Sydney:20221127T100000
DTEND;TZID=Australia/Sydney:20221127T150000
DTSTAMP:20260422T200558
CREATED:20220802T053950Z
LAST-MODIFIED:20220802T053950Z
UID:1600-1669543200-1669561200@meliorafarm.com.au
SUMMARY:Pick Your Own - November 27th
DESCRIPTION:Cost is $30 for a Meliora farm bag that you can fill up with our delicious oranges (approximately 12kg of fruit). Upon arrival you can collect as many bags as you would like\, go out into the orchard to pick your fruit and once you have finished picking\, head over to the marquee where you can buy other seasonal produce and pay for your full bags. Cash sales are encouraged (unfortunately we have unreliable mobile and internet services\, intermittent EFTPOS is available). Fruit sales are our income\, and it takes all year to prepare just the one crop. Please respect it by only picking only what you are prepared to buy. Please wear comfortable enclosed footwear\, suitable for walking on uneven ground. No bags to be taken into the orchards\, other than Meliora Farm bags that have been purchased.\n\n\n\n\n\n\n\n\n\n\n\n\n\n\n\n 
URL:https://meliorafarm.com.au/event/pick-your-own-november-27th/
LOCATION:Meliora Farm\, Meliora Farm\, 1504 Peats Ridge Rd\, Peats Ridge\, NSW\, 2250\, Australia
ORGANIZER;CN="Tim & Elise Kemp":MAILTO:info@meliorafarm.com.au
GEO:-33.349434514321;151.22989927536
X-APPLE-STRUCTURED-LOCATION;VALUE=URI;X-ADDRESS=Meliora Farm Meliora Farm 1504 Peats Ridge Rd Peats Ridge NSW 2250 Australia;X-APPLE-RADIUS=500;X-TITLE=Meliora Farm\, 1504 Peats Ridge Rd:geo:151.22989927536,-33.349434514321
END:VEVENT
BEGIN:VEVENT
DTSTART;TZID=Australia/Sydney:20221126T100000
DTEND;TZID=Australia/Sydney:20221126T150000
DTSTAMP:20260422T200558
CREATED:20220802T053824Z
LAST-MODIFIED:20220802T053824Z
UID:1597-1669456800-1669474800@meliorafarm.com.au
SUMMARY:Pick Your Own - November 26th
DESCRIPTION:Cost is $30 for a Meliora farm bag that you can fill up with our delicious oranges (approximately 12kg of fruit). Upon arrival you can collect as many bags as you would like\, go out into the orchard to pick your fruit and once you have finished picking\, head over to the marquee where you can buy other seasonal produce and pay for your full bags. Cash sales are encouraged (unfortunately we have unreliable mobile and internet services\, intermittent EFTPOS is available). Fruit sales are our income\, and it takes all year to prepare just the one crop. Please respect it by only picking only what you are prepared to buy. Please wear comfortable enclosed footwear\, suitable for walking on uneven ground. No bags to be taken into the orchards\, other than Meliora Farm bags that have been purchased.\n\n\n\n\n\n\n\n\n\n\n\n\n\n\n\n 
URL:https://meliorafarm.com.au/event/pick-your-own-november-26th/
LOCATION:Meliora Farm\, Meliora Farm\, 1504 Peats Ridge Rd\, Peats Ridge\, NSW\, 2250\, Australia
ORGANIZER;CN="Tim & Elise Kemp":MAILTO:info@meliorafarm.com.au
GEO:-33.349434514321;151.22989927536
X-APPLE-STRUCTURED-LOCATION;VALUE=URI;X-ADDRESS=Meliora Farm Meliora Farm 1504 Peats Ridge Rd Peats Ridge NSW 2250 Australia;X-APPLE-RADIUS=500;X-TITLE=Meliora Farm\, 1504 Peats Ridge Rd:geo:151.22989927536,-33.349434514321
END:VEVENT
BEGIN:VEVENT
DTSTART;TZID=Australia/Sydney:20220529T100000
DTEND;TZID=Australia/Sydney:20220529T150000
DTSTAMP:20260422T200558
CREATED:20220217T051743Z
LAST-MODIFIED:20220311T025649Z
UID:979-1653818400-1653836400@meliorafarm.com.au
SUMMARY:Pick Your Own - May 29th
DESCRIPTION:Cost is $30 for a Meliora farm bag that you can fill up with our delicious oranges (approximately 12kg of fruit). Upon arrival you can collect as many bags as you would like\, go out into the orchard to pick your fruit and once you have finished picking\, head over to the marquee where you can buy other seasonal produce and pay for your full bags. Cash sales are encouraged (unfortunately we have unreliable mobile and internet services\, intermittent EFTPOS is available). Fruit sales are our income\, and it takes all year to prepare just the one crop. Please respect it by only picking only what you are prepared to buy. Please wear comfortable enclosed footwear\, suitable for walking on uneven ground. No bags to be taken into the orchards\, other than Meliora Farm bags that have been purchased.\n\n\n\n\n\n\n\n\n\n\n\n\n\n\n\n 
URL:https://meliorafarm.com.au/event/pick-your-own-may-29th/
LOCATION:Meliora Farm\, Meliora Farm\, 1504 Peats Ridge Rd\, Peats Ridge\, NSW\, 2250\, Australia
ORGANIZER;CN="Tim & Elise Kemp":MAILTO:info@meliorafarm.com.au
GEO:-33.349434514321;151.22989927536
X-APPLE-STRUCTURED-LOCATION;VALUE=URI;X-ADDRESS=Meliora Farm Meliora Farm 1504 Peats Ridge Rd Peats Ridge NSW 2250 Australia;X-APPLE-RADIUS=500;X-TITLE=Meliora Farm\, 1504 Peats Ridge Rd:geo:151.22989927536,-33.349434514321
END:VEVENT
BEGIN:VEVENT
DTSTART;TZID=Australia/Sydney:20220528T100000
DTEND;TZID=Australia/Sydney:20220528T150000
DTSTAMP:20260422T200558
CREATED:20220111T044955Z
LAST-MODIFIED:20220311T025431Z
UID:726-1653732000-1653750000@meliorafarm.com.au
SUMMARY:Pick Your Own - May 28th
DESCRIPTION:Cost is $30 for a Meliora farm bag that you can fill up with our delicious oranges (approximately 12kg of fruit). Upon arrival you can collect as many bags as you would like\, go out into the orchard to pick your fruit and once you have finished picking\, head over to the marquee where you can buy other seasonal produce and pay for your full bags. Cash sales are encouraged (unfortunately we have unreliable mobile and internet services\, intermittent EFTPOS is available). Fruit sales are our income\, and it takes all year to prepare just the one crop. Please respect it by only picking only what you are prepared to buy. Please wear comfortable enclosed footwear\, suitable for walking on uneven ground. No bags to be taken into the orchards\, other than Meliora Farm bags that have been purchased.\n\n\n\n\n\n\n\n\n\n\n\n\n\n\n\n 
URL:https://meliorafarm.com.au/event/pick-your-own-may-28th/
LOCATION:Meliora Farm\, Meliora Farm\, 1504 Peats Ridge Rd\, Peats Ridge\, NSW\, 2250\, Australia
ORGANIZER;CN="Tim & Elise Kemp":MAILTO:info@meliorafarm.com.au
GEO:-33.349434514321;151.22989927536
X-APPLE-STRUCTURED-LOCATION;VALUE=URI;X-ADDRESS=Meliora Farm Meliora Farm 1504 Peats Ridge Rd Peats Ridge NSW 2250 Australia;X-APPLE-RADIUS=500;X-TITLE=Meliora Farm\, 1504 Peats Ridge Rd:geo:151.22989927536,-33.349434514321
END:VEVENT
END:VCALENDAR